BEGIN:VCALENDAR
VERSION:2.0
PRODID:-//eventon.com NONSGML v1.0//EN
CALSCALE:GREGORIAN
METHOD:PUBLISH
BEGIN:VEVENT
UID:69e8a89fa1045
DTSTAMP:20260422T105319Z
DTSTART:20240804T180000Z
DTEND:20240804T210000Z
LOCATION:Crump's Landing 11210 West Halls River Road\,  Homosassa\,  FL\,  34448\,  US
SUMMARY:Soul Circus Cowboys at Crump's Landing
DESCRIPTION:Soul Circus Cowboys at Crump&#8217;s Landing 11210 W Halls Rive
 r Rd\,  Homosassa\,  FL 34448. Come enjoy the great music. Soul Circus Cowb
 oys bring the sound of sunshine\,  celebration\,  and soul to their music. 
 With songs like “Party at The Barn”\,  “Gator Girls”\,  and “I St
 and\, ” which celebrates the men and[..]\nhttps://weeklycalendar.info/eve
 nts/soul-circus-cowboys-at-crumps-landing/
URL:https://weeklycalendar.info/events/soul-circus-cowboys-at-crumps-landing/
END:VEVENT
END:VCALENDAR