BEGIN:VCALENDAR
VERSION:2.0
PRODID:-//eventon.com NONSGML v1.0//EN
CALSCALE:GREGORIAN
METHOD:PUBLISH
BEGIN:VEVENT
UID:69eb38f01a832
DTSTAMP:20260424T093336Z
DTSTART:20260425T213000Z
DTEND:20260426T003000Z
LOCATION:Seminole Elks #2519 10717 Seminole Blvd\,  Largo\,  FL 33778\,  USA
SUMMARY:John Ellis Seminole Seminole Elks #2519
DESCRIPTION:John Ellis at Seminole Elks #2519 10717 Seminole Blvd\,  Largo\
 ,  FL 33778. John Ellis performs all of your favorite Classic Rock\,  Blues
 \,  Country\,  Top40 and Dance Music! Come out enjoy the fun food and excit
 ement!\nhttps://weeklycalendar.info/events/john-ellis-seminole-seminole-elk
 s-2519/
URL:https://weeklycalendar.info/events/john-ellis-seminole-seminole-elks-2519/
END:VEVENT
END:VCALENDAR