BEGIN:VCALENDAR
VERSION:2.0
PRODID:-//eventon.com NONSGML v1.0//EN
CALSCALE:GREGORIAN
METHOD:PUBLISH
BEGIN:VEVENT
UID:69eb3123dfbda
DTSTAMP:20260424T090019Z
DTSTART:20260220T200000Z
DTEND:20260411T230000Z
LOCATION:Whiskey Wings Largo Whiskey Wings Largo
SUMMARY:Stormbringer Band Whiskey Wings Largo
DESCRIPTION:Stormbringer Band Whiskey Wings Largo Stormbringer Band\,  One 
 of the best Rock Cover Bands in Tampa Bay\,  at Whiskey Wings Largo.\nhttps
 ://weeklycalendar.info/events/stormbringer-band-whiskey-wings-largo/
URL:https://weeklycalendar.info/events/stormbringer-band-whiskey-wings-largo/
END:VEVENT
END:VCALENDAR